BEGIN:VCALENDAR
VERSION:2.0
PRODID:icalendar-ruby
CALSCALE:GREGORIAN
METHOD:PUBLISH
BEGIN:VTIMEZONE
TZID:Australia/Brisbane
BEGIN:STANDARD
DTSTART:19920301T020000
TZOFFSETFROM:+1100
TZOFFSETTO:+1000
TZNAME:AEST
END:STANDARD
END:VTIMEZONE
BEGIN:VEVENT
DTSTAMP:20200228T093210Z
UID:inspection_725249
DTSTART;TZID=Australia/Brisbane:20200229T143000
DTEND;TZID=Australia/Brisbane:20200229T150000
CLASS:PUBLIC
CREATED:20200226T124547
DESCRIPTION: 
LAST-MODIFIED:20200226T124547
LOCATION:107 Velvet Street\, PINE MOUNTAIN QLD 4306\, Australia
SUMMARY:107 Velvet Street\,  Inspection
URL:http://www.ipswichrealestate.com.au/
END:VEVENT
END:VCALENDAR
